BEGIN:VCALENDAR
VERSION:2.0
PRODID:-//Central Oklahoma Community Action Agency - ECPv6.15.20//NONSGML v1.0//EN
CALSCALE:GREGORIAN
METHOD:PUBLISH
X-WR-CALNAME:Central Oklahoma Community Action Agency
X-ORIGINAL-URL:https://cocaa.org
X-WR-CALDESC:Events for Central Oklahoma Community Action Agency
REFRESH-INTERVAL;VALUE=DURATION:PT1H
X-Robots-Tag:noindex
X-PUBLISHED-TTL:PT1H
BEGIN:VTIMEZONE
TZID:America/Chicago
BEGIN:DAYLIGHT
TZOFFSETFROM:-0600
TZOFFSETTO:-0500
TZNAME:CDT
DTSTART:20200308T080000
END:DAYLIGHT
BEGIN:STANDARD
TZOFFSETFROM:-0500
TZOFFSETTO:-0600
TZNAME:CST
DTSTART:20201101T070000
END:STANDARD
BEGIN:DAYLIGHT
TZOFFSETFROM:-0600
TZOFFSETTO:-0500
TZNAME:CDT
DTSTART:20210314T080000
END:DAYLIGHT
BEGIN:STANDARD
TZOFFSETFROM:-0500
TZOFFSETTO:-0600
TZNAME:CST
DTSTART:20211107T070000
END:STANDARD
BEGIN:DAYLIGHT
TZOFFSETFROM:-0600
TZOFFSETTO:-0500
TZNAME:CDT
DTSTART:20220313T080000
END:DAYLIGHT
BEGIN:STANDARD
TZOFFSETFROM:-0500
TZOFFSETTO:-0600
TZNAME:CST
DTSTART:20221106T070000
END:STANDARD
BEGIN:DAYLIGHT
TZOFFSETFROM:-0600
TZOFFSETTO:-0500
TZNAME:CDT
DTSTART:20230312T080000
END:DAYLIGHT
BEGIN:STANDARD
TZOFFSETFROM:-0500
TZOFFSETTO:-0600
TZNAME:CST
DTSTART:20231105T070000
END:STANDARD
END:VTIMEZONE
BEGIN:VEVENT
DTSTART;TZID=America/Chicago:20220415T080000
DTEND;TZID=America/Chicago:20220415T170000
DTSTAMP:20260423T162955
CREATED:20211128T205206Z
LAST-MODIFIED:20211229T182648Z
UID:3001-1650009600-1650042000@cocaa.org
SUMMARY:Good Friday
DESCRIPTION:
URL:https://cocaa.org/event/good-friday/
LOCATION:COCAA\, 2 East Main Street\, Shawnee\, OK\, 74801\, United States
ORGANIZER;CN="Barbara Loudermilk":MAILTO:bloudermilk@cocaa.org
END:VEVENT
BEGIN:VEVENT
DTSTART;TZID=America/Chicago:20220315T120000
DTEND;TZID=America/Chicago:20220315T150000
DTSTAMP:20260423T162955
CREATED:20210831T172722Z
LAST-MODIFIED:20210831T175011Z
UID:2891-1647345600-1647356400@cocaa.org
SUMMARY:Committee Meeting
DESCRIPTION:
URL:https://cocaa.org/event/committee-meeting-2/
LOCATION:COCAA\, 2 East Main Street\, Shawnee\, OK\, 74801\, United States
ORGANIZER;CN="Barbara Loudermilk":MAILTO:bloudermilk@cocaa.org
END:VEVENT
BEGIN:VEVENT
DTSTART;TZID=America/Chicago:20220221T080000
DTEND;TZID=America/Chicago:20220221T170000
DTSTAMP:20260423T162955
CREATED:20211128T205105Z
LAST-MODIFIED:20211229T182752Z
UID:2998-1645430400-1645462800@cocaa.org
SUMMARY:President's Day
DESCRIPTION:
URL:https://cocaa.org/event/presidents-day/
LOCATION:COCAA\, 2 East Main Street\, Shawnee\, OK\, 74801\, United States
ORGANIZER;CN="Barbara Loudermilk":MAILTO:bloudermilk@cocaa.org
END:VEVENT
BEGIN:VEVENT
DTSTART;TZID=America/Chicago:20220215T120000
DTEND;TZID=America/Chicago:20220215T150000
DTSTAMP:20260423T162955
CREATED:20210831T172508Z
LAST-MODIFIED:20210831T174930Z
UID:2889-1644926400-1644937200@cocaa.org
SUMMARY:Full Board Meeting
DESCRIPTION:
URL:https://cocaa.org/event/full-board-meeting-3/
LOCATION:COCAA\, 2 East Main Street\, Shawnee\, OK\, 74801\, United States
ORGANIZER;CN="Barbara Loudermilk":MAILTO:bloudermilk@cocaa.org
END:VEVENT
BEGIN:VEVENT
DTSTART;TZID=America/Chicago:20220117T080000
DTEND;TZID=America/Chicago:20220117T170000
DTSTAMP:20260423T162955
CREATED:20211128T204958Z
LAST-MODIFIED:20211128T204958Z
UID:2996-1642406400-1642438800@cocaa.org
SUMMARY:Martin Luther King Day
DESCRIPTION:
URL:https://cocaa.org/event/martin-luther-king-day/
LOCATION:COCAA\, 2 East Main Street\, Shawnee\, OK\, 74801\, United States
ORGANIZER;CN="Barbara Loudermilk":MAILTO:bloudermilk@cocaa.org
END:VEVENT
BEGIN:VEVENT
DTSTART;TZID=America/Chicago:20220103T080000
DTEND;TZID=America/Chicago:20220103T170000
DTSTAMP:20260423T162955
CREATED:20211128T204850Z
LAST-MODIFIED:20211128T204850Z
UID:2994-1641196800-1641229200@cocaa.org
SUMMARY:New Year's Day-Observed
DESCRIPTION:
URL:https://cocaa.org/event/new-years-day-observed/
LOCATION:COCAA\, 2 East Main Street\, Shawnee\, OK\, 74801\, United States
ORGANIZER;CN="Barbara Loudermilk":MAILTO:bloudermilk@cocaa.org
END:VEVENT
BEGIN:VEVENT
DTSTART;TZID=America/Chicago:20211227T080000
DTEND;TZID=America/Chicago:20211227T170000
DTSTAMP:20260423T162955
CREATED:20210831T150123Z
LAST-MODIFIED:20210831T150123Z
UID:2877-1640592000-1640624400@cocaa.org
SUMMARY:Christmas Holiday
DESCRIPTION:
URL:https://cocaa.org/event/christmas-holiday/
LOCATION:OK
ORGANIZER;CN="Barbara Loudermilk":MAILTO:bloudermilk@cocaa.org
END:VEVENT
BEGIN:VEVENT
DTSTART;TZID=America/Chicago:20211224T080000
DTEND;TZID=America/Chicago:20211224T170000
DTSTAMP:20260423T162955
CREATED:20210831T150023Z
LAST-MODIFIED:20210831T150023Z
UID:2875-1640332800-1640365200@cocaa.org
SUMMARY:Christmas Eve
DESCRIPTION:
URL:https://cocaa.org/event/christmas-eve/
LOCATION:OK
ORGANIZER;CN="Barbara Loudermilk":MAILTO:bloudermilk@cocaa.org
END:VEVENT
BEGIN:VEVENT
DTSTART;TZID=America/Chicago:20211214T120000
DTEND;TZID=America/Chicago:20211214T150000
DTSTAMP:20260423T162955
CREATED:20210826T015618Z
LAST-MODIFIED:20210826T020418Z
UID:2823-1639483200-1639494000@cocaa.org
SUMMARY:Full Board Meeting
DESCRIPTION:
URL:https://cocaa.org/event/full-board-meeting-2/
LOCATION:COCAA\, 2 East Main Street\, Shawnee\, OK\, 74801\, United States
ORGANIZER;CN="Barbara Loudermilk":MAILTO:bloudermilk@cocaa.org
END:VEVENT
BEGIN:VEVENT
DTSTART;TZID=America/Chicago:20211126T080000
DTEND;TZID=America/Chicago:20211126T170000
DTSTAMP:20260423T162955
CREATED:20210831T145909Z
LAST-MODIFIED:20210831T145909Z
UID:2873-1637913600-1637946000@cocaa.org
SUMMARY:Day After Thanksgiving
DESCRIPTION:
URL:https://cocaa.org/event/day-after-thanksgiving/
LOCATION:OK
ORGANIZER;CN="Barbara Loudermilk":MAILTO:bloudermilk@cocaa.org
END:VEVENT
BEGIN:VEVENT
DTSTART;TZID=America/Chicago:20211125T080000
DTEND;TZID=America/Chicago:20211125T170000
DTSTAMP:20260423T162955
CREATED:20210831T145805Z
LAST-MODIFIED:20211104T205541Z
UID:2871-1637827200-1637859600@cocaa.org
SUMMARY:Thanksgiving Day
DESCRIPTION:
URL:https://cocaa.org/event/thanksgiving-day/
LOCATION:OK
ORGANIZER;CN="Barbara Loudermilk":MAILTO:bloudermilk@cocaa.org
END:VEVENT
BEGIN:VEVENT
DTSTART;TZID=America/Chicago:20211116T120000
DTEND;TZID=America/Chicago:20211116T150000
DTSTAMP:20260423T162955
CREATED:20210826T015313Z
LAST-MODIFIED:20210826T015313Z
UID:2819-1637064000-1637074800@cocaa.org
SUMMARY:Committee Meeting
DESCRIPTION:
URL:https://cocaa.org/event/committee-meeting/
LOCATION:COCAA\, 2 East Main Street\, Shawnee\, OK\, 74801\, United States
CATEGORIES:Committee Meeting,Full Board Meeting
ORGANIZER;CN="Barbara Loudermilk":MAILTO:bloudermilk@cocaa.org
END:VEVENT
BEGIN:VEVENT
DTSTART;TZID=America/Chicago:20211019T120000
DTEND;TZID=America/Chicago:20211019T150000
DTSTAMP:20260423T162955
CREATED:20210826T015448Z
LAST-MODIFIED:20210826T020448Z
UID:2821-1634644800-1634655600@cocaa.org
SUMMARY:Full Board Meeting
DESCRIPTION:
URL:https://cocaa.org/event/full-board-meeting/
LOCATION:COCAA\, 2 East Main Street\, Shawnee\, OK\, 74801\, United States
ORGANIZER;CN="Barbara Loudermilk":MAILTO:bloudermilk@cocaa.org
END:VEVENT
BEGIN:VEVENT
DTSTART;TZID=America/Chicago:20210921T120000
DTEND;TZID=America/Chicago:20210921T150000
DTSTAMP:20260423T162955
CREATED:20210825T205826Z
LAST-MODIFIED:20210826T020151Z
UID:2809-1632225600-1632236400@cocaa.org
SUMMARY:September Committee Meeting
DESCRIPTION:
URL:https://cocaa.org/event/september-committee-meeting/
LOCATION:COCAA\, 2 East Main Street\, Shawnee\, OK\, 74801\, United States
ORGANIZER;CN="Barbara Loudermilk":MAILTO:bloudermilk@cocaa.org
END:VEVENT
BEGIN:VEVENT
DTSTART;TZID=America/Chicago:20210906T080000
DTEND;TZID=America/Chicago:20210906T170000
DTSTAMP:20260423T162955
CREATED:20210831T145700Z
LAST-MODIFIED:20210831T145700Z
UID:2869-1630915200-1630947600@cocaa.org
SUMMARY:Labor Day
DESCRIPTION:
URL:https://cocaa.org/event/labor-day/
LOCATION:OK
ORGANIZER;CN="Barbara Loudermilk":MAILTO:bloudermilk@cocaa.org
END:VEVENT
END:VCALENDAR