BEGIN:VCALENDAR
VERSION:2.0
PRODID:-//Central Oklahoma Community Action Agency - ECPv6.15.20//NONSGML v1.0//EN
CALSCALE:GREGORIAN
METHOD:PUBLISH
X-ORIGINAL-URL:https://cocaa.org
X-WR-CALDESC:Events for Central Oklahoma Community Action Agency
REFRESH-INTERVAL;VALUE=DURATION:PT1H
X-Robots-Tag:noindex
X-PUBLISHED-TTL:PT1H
BEGIN:VTIMEZONE
TZID:America/Chicago
BEGIN:DAYLIGHT
TZOFFSETFROM:-0600
TZOFFSETTO:-0500
TZNAME:CDT
DTSTART:20210314T080000
END:DAYLIGHT
BEGIN:STANDARD
TZOFFSETFROM:-0500
TZOFFSETTO:-0600
TZNAME:CST
DTSTART:20211107T070000
END:STANDARD
BEGIN:DAYLIGHT
TZOFFSETFROM:-0600
TZOFFSETTO:-0500
TZNAME:CDT
DTSTART:20220313T080000
END:DAYLIGHT
BEGIN:STANDARD
TZOFFSETFROM:-0500
TZOFFSETTO:-0600
TZNAME:CST
DTSTART:20221106T070000
END:STANDARD
BEGIN:DAYLIGHT
TZOFFSETFROM:-0600
TZOFFSETTO:-0500
TZNAME:CDT
DTSTART:20230312T080000
END:DAYLIGHT
BEGIN:STANDARD
TZOFFSETFROM:-0500
TZOFFSETTO:-0600
TZNAME:CST
DTSTART:20231105T070000
END:STANDARD
BEGIN:DAYLIGHT
TZOFFSETFROM:-0600
TZOFFSETTO:-0500
TZNAME:CDT
DTSTART:20240310T080000
END:DAYLIGHT
BEGIN:STANDARD
TZOFFSETFROM:-0500
TZOFFSETTO:-0600
TZNAME:CST
DTSTART:20241103T070000
END:STANDARD
BEGIN:DAYLIGHT
TZOFFSETFROM:-0600
TZOFFSETTO:-0500
TZNAME:CDT
DTSTART:20250309T080000
END:DAYLIGHT
BEGIN:STANDARD
TZOFFSETFROM:-0500
TZOFFSETTO:-0600
TZNAME:CST
DTSTART:20251102T070000
END:STANDARD
BEGIN:DAYLIGHT
TZOFFSETFROM:-0600
TZOFFSETTO:-0500
TZNAME:CDT
DTSTART:20260308T080000
END:DAYLIGHT
BEGIN:STANDARD
TZOFFSETFROM:-0500
TZOFFSETTO:-0600
TZNAME:CST
DTSTART:20261101T070000
END:STANDARD
END:VTIMEZONE
BEGIN:VEVENT
DTSTART;TZID=America/Chicago:20251222T080000
DTEND;TZID=America/Chicago:20251226T170000
DTSTAMP:20260423T130504
CREATED:20230606T145808Z
LAST-MODIFIED:20251217T222628Z
UID:3414-1766390400-1766768400@cocaa.org
SUMMARY:Closed - Christmas Holiday Dec. 22 - 26
DESCRIPTION:
URL:https://cocaa.org/event/closed-christmas-holiday-dec-25-26/
LOCATION:COCAA\, 2 East Main Street\, Shawnee\, OK\, 74801\, United States
ORGANIZER;CN="Barbara Loudermilk":MAILTO:bloudermilk@cocaa.org
END:VEVENT
BEGIN:VEVENT
DTSTART;TZID=America/Chicago:20231222T080000
DTEND;TZID=America/Chicago:20231222T170000
DTSTAMP:20260423T130504
CREATED:20230606T145857Z
LAST-MODIFIED:20230606T145857Z
UID:3416-1703232000-1703264400@cocaa.org
SUMMARY:Christmas Eve Holiday
DESCRIPTION:
URL:https://cocaa.org/event/christmas-eve-holiday/
LOCATION:COCAA\, 2 East Main Street\, Shawnee\, OK\, 74801\, United States
ORGANIZER;CN="Barbara Loudermilk":MAILTO:bloudermilk@cocaa.org
END:VEVENT
BEGIN:VEVENT
DTSTART;TZID=America/Chicago:20231212T120000
DTEND;TZID=America/Chicago:20231212T150000
DTSTAMP:20260423T130504
CREATED:20230622T161850Z
LAST-MODIFIED:20230622T161850Z
UID:3483-1702382400-1702393200@cocaa.org
SUMMARY:Full Board Meeting
DESCRIPTION:
URL:https://cocaa.org/event/full-board-meeting-12/
LOCATION:COCAA\, 2 East Main Street\, Shawnee\, OK\, 74801\, United States
ORGANIZER;CN="Barbara Loudermilk":MAILTO:bloudermilk@cocaa.org
END:VEVENT
BEGIN:VEVENT
DTSTART;TZID=America/Chicago:20231124T080000
DTEND;TZID=America/Chicago:20231124T170000
DTSTAMP:20260423T130504
CREATED:20230606T150104Z
LAST-MODIFIED:20230606T150104Z
UID:3420-1700812800-1700845200@cocaa.org
SUMMARY:Thanksgiving - Day After
DESCRIPTION:
URL:https://cocaa.org/event/thanksgiving-day-after/
LOCATION:COCAA\, 2 East Main Street\, Shawnee\, OK\, 74801\, United States
ORGANIZER;CN="Barbara Loudermilk":MAILTO:bloudermilk@cocaa.org
END:VEVENT
BEGIN:VEVENT
DTSTART;TZID=America/Chicago:20231123T080000
DTEND;TZID=America/Chicago:20231123T170000
DTSTAMP:20260423T130504
CREATED:20230606T150007Z
LAST-MODIFIED:20230606T150007Z
UID:3418-1700726400-1700758800@cocaa.org
SUMMARY:Thanksgiving
DESCRIPTION:
URL:https://cocaa.org/event/thanksgiving/
LOCATION:COCAA\, 2 East Main Street\, Shawnee\, OK\, 74801\, United States
ORGANIZER;CN="Barbara Loudermilk":MAILTO:bloudermilk@cocaa.org
END:VEVENT
BEGIN:VEVENT
DTSTART;TZID=America/Chicago:20231114T130000
DTEND;TZID=America/Chicago:20231114T160000
DTSTAMP:20260423T130504
CREATED:20230622T161746Z
LAST-MODIFIED:20230622T161746Z
UID:3481-1699966800-1699977600@cocaa.org
SUMMARY:Committee Meeting
DESCRIPTION:
URL:https://cocaa.org/event/committee-meeting-9/
LOCATION:COCAA\, 2 East Main Street\, Shawnee\, OK\, 74801\, United States
ORGANIZER;CN="Barbara Loudermilk":MAILTO:bloudermilk@cocaa.org
END:VEVENT
BEGIN:VEVENT
DTSTART;TZID=America/Chicago:20231110T080000
DTEND;TZID=America/Chicago:20231110T170000
DTSTAMP:20260423T130504
CREATED:20230606T150235Z
LAST-MODIFIED:20230606T150235Z
UID:3422-1699603200-1699635600@cocaa.org
SUMMARY:Veteran's Day
DESCRIPTION:
URL:https://cocaa.org/event/veterans-day/
LOCATION:COCAA\, 2 East Main Street\, Shawnee\, OK\, 74801\, United States
ORGANIZER;CN="Barbara Loudermilk":MAILTO:bloudermilk@cocaa.org
END:VEVENT
BEGIN:VEVENT
DTSTART;TZID=America/Chicago:20231017T120000
DTEND;TZID=America/Chicago:20231017T150000
DTSTAMP:20260423T130504
CREATED:20230622T161600Z
LAST-MODIFIED:20230622T161625Z
UID:3479-1697544000-1697554800@cocaa.org
SUMMARY:Full Board Meeting
DESCRIPTION:
URL:https://cocaa.org/event/full-board-meeting-11/
LOCATION:COCAA\, 2 East Main Street\, Shawnee\, OK\, 74801\, United States
ORGANIZER;CN="Barbara Loudermilk":MAILTO:bloudermilk@cocaa.org
END:VEVENT
BEGIN:VEVENT
DTSTART;TZID=America/Chicago:20231017T120000
DTEND;TZID=America/Chicago:20231017T143000
DTSTAMP:20260423T130504
CREATED:20230606T151015Z
LAST-MODIFIED:20230606T151015Z
UID:3434-1697544000-1697553000@cocaa.org
SUMMARY:Regularly Scheduled Meeting
DESCRIPTION:
URL:https://cocaa.org/event/regularly-scheduled-meeting-3/
LOCATION:COCAA\, 2 East Main Street\, Shawnee\, OK\, 74801\, United States
ORGANIZER;CN="Barbara Loudermilk":MAILTO:bloudermilk@cocaa.org
END:VEVENT
BEGIN:VEVENT
DTSTART;TZID=America/Chicago:20230919T130000
DTEND;TZID=America/Chicago:20230919T160000
DTSTAMP:20260423T130504
CREATED:20230622T161430Z
LAST-MODIFIED:20230622T161430Z
UID:3477-1695128400-1695139200@cocaa.org
SUMMARY:Committee Meeting
DESCRIPTION:
URL:https://cocaa.org/event/committee-meeting-8/
LOCATION:COCAA\, 2 East Main Street\, Shawnee\, OK\, 74801\, United States
ORGANIZER;CN="Barbara Loudermilk":MAILTO:bloudermilk@cocaa.org
END:VEVENT
BEGIN:VEVENT
DTSTART;TZID=America/Chicago:20230904T080000
DTEND;TZID=America/Chicago:20230904T170000
DTSTAMP:20260423T130504
CREATED:20230606T150307Z
LAST-MODIFIED:20230606T150307Z
UID:3424-1693814400-1693846800@cocaa.org
SUMMARY:Labor Day
DESCRIPTION:
URL:https://cocaa.org/event/labor-day-2/
LOCATION:COCAA\, 2 East Main Street\, Shawnee\, OK\, 74801\, United States
ORGANIZER;CN="Barbara Loudermilk":MAILTO:bloudermilk@cocaa.org
END:VEVENT
BEGIN:VEVENT
DTSTART;TZID=America/Chicago:20230815T120000
DTEND;TZID=America/Chicago:20230815T150000
DTSTAMP:20260423T130504
CREATED:20230622T161236Z
LAST-MODIFIED:20230622T162113Z
UID:3475-1692100800-1692111600@cocaa.org
SUMMARY:Full Board Meeting
DESCRIPTION:
URL:https://cocaa.org/event/full-board-meeting-10/
LOCATION:COCAA\, 2 East Main Street\, Shawnee\, OK\, 74801\, United States
ORGANIZER;CN="Barbara Loudermilk":MAILTO:bloudermilk@cocaa.org
END:VEVENT
BEGIN:VEVENT
DTSTART;TZID=America/Chicago:20230815T120000
DTEND;TZID=America/Chicago:20230815T143000
DTSTAMP:20260423T130504
CREATED:20230606T150937Z
LAST-MODIFIED:20230606T150937Z
UID:3432-1692100800-1692109800@cocaa.org
SUMMARY:Regularly Scheduled Meeting
DESCRIPTION:
URL:https://cocaa.org/event/regularly-scheduled-meeting-2/
LOCATION:COCAA\, 2 East Main Street\, Shawnee\, OK\, 74801\, United States
ORGANIZER;CN="Barbara Loudermilk":MAILTO:bloudermilk@cocaa.org
END:VEVENT
BEGIN:VEVENT
DTSTART;TZID=America/Chicago:20230718T130000
DTEND;TZID=America/Chicago:20230718T160000
DTSTAMP:20260423T130504
CREATED:20230622T161121Z
LAST-MODIFIED:20230622T161121Z
UID:3473-1689685200-1689696000@cocaa.org
SUMMARY:Committee Meeting
DESCRIPTION:
URL:https://cocaa.org/event/committee-meeting-7/
LOCATION:COCAA\, 2 East Main Street\, Shawnee\, OK\, 74801\, United States
ORGANIZER;CN="Barbara Loudermilk":MAILTO:bloudermilk@cocaa.org
END:VEVENT
BEGIN:VEVENT
DTSTART;TZID=America/Chicago:20230703T080000
DTEND;TZID=America/Chicago:20230704T170000
DTSTAMP:20260423T130504
CREATED:20230606T150410Z
LAST-MODIFIED:20230606T150410Z
UID:3426-1688371200-1688490000@cocaa.org
SUMMARY:Independence Day  July 3 & 4
DESCRIPTION:
URL:https://cocaa.org/event/independence-day-july-3-4/
LOCATION:COCAA\, 2 East Main Street\, Shawnee\, OK\, 74801\, United States
ORGANIZER;CN="Barbara Loudermilk":MAILTO:bloudermilk@cocaa.org
END:VEVENT
BEGIN:VEVENT
DTSTART;TZID=America/Chicago:20230628T120000
DTEND;TZID=America/Chicago:20230628T150000
DTSTAMP:20260423T130504
CREATED:20230622T160220Z
LAST-MODIFIED:20230622T160220Z
UID:3467-1687953600-1687964400@cocaa.org
SUMMARY:Full Board Meeting
DESCRIPTION:
URL:https://cocaa.org/event/full-board-meeting-8/
LOCATION:COCAA\, 2 East Main Street\, Shawnee\, OK\, 74801\, United States
ORGANIZER;CN="Barbara Loudermilk":MAILTO:bloudermilk@cocaa.org
END:VEVENT
BEGIN:VEVENT
DTSTART;TZID=America/Chicago:20230620T120000
DTEND;TZID=America/Chicago:20230620T143000
DTSTAMP:20260423T130504
CREATED:20230606T150850Z
LAST-MODIFIED:20230606T150850Z
UID:3430-1687262400-1687271400@cocaa.org
SUMMARY:Regularly Scheduled Meeting
DESCRIPTION:
URL:https://cocaa.org/event/regularly-scheduled-meeting/
LOCATION:COCAA\, 2 East Main Street\, Shawnee\, OK\, 74801\, United States
ORGANIZER;CN="Barbara Loudermilk":MAILTO:bloudermilk@cocaa.org
END:VEVENT
BEGIN:VEVENT
DTSTART;TZID=America/Chicago:20230619T080000
DTEND;TZID=America/Chicago:20230619T170000
DTSTAMP:20260423T130504
CREATED:20230606T150504Z
LAST-MODIFIED:20230606T150504Z
UID:3428-1687161600-1687194000@cocaa.org
SUMMARY:Juneteenth
DESCRIPTION:
URL:https://cocaa.org/event/juneteenth-2/
LOCATION:COCAA\, 2 East Main Street\, Shawnee\, OK\, 74801\, United States
ORGANIZER;CN="Barbara Loudermilk":MAILTO:bloudermilk@cocaa.org
END:VEVENT
BEGIN:VEVENT
DTSTART;TZID=America/Chicago:20221225T080000
DTEND;TZID=America/Chicago:20221226T170000
DTSTAMP:20260423T130504
CREATED:20231225T140055Z
LAST-MODIFIED:20230606T145620Z
UID:3017-1671955200-1672074000@cocaa.org
SUMMARY:Closed - Christmas Holiday 25 & 26
DESCRIPTION:
URL:https://cocaa.org/event/christmas-holiday-2/
LOCATION:COCAA\, 2 East Main Street\, Shawnee\, OK\, 74801\, United States
ORGANIZER;CN="Barbara Loudermilk":MAILTO:bloudermilk@cocaa.org
END:VEVENT
BEGIN:VEVENT
DTSTART;TZID=America/Chicago:20221222T080000
DTEND;TZID=America/Chicago:20231221T170000
DTSTAMP:20260423T130504
CREATED:20231222T140056Z
LAST-MODIFIED:20230606T144759Z
UID:3257-1671696000-1703178000@cocaa.org
SUMMARY:Closed - Christmas Eve Holiday
DESCRIPTION:
URL:https://cocaa.org/event/closed-christmas-eve-holiday/
LOCATION:COCAA\, 2 East Main Street\, Shawnee\, OK\, 74801\, United States
ORGANIZER;CN="Barbara Loudermilk":MAILTO:bloudermilk@cocaa.org
END:VEVENT
BEGIN:VEVENT
DTSTART;TZID=America/Chicago:20221213T120000
DTEND;TZID=America/Chicago:20221213T150000
DTSTAMP:20260423T130504
CREATED:20210831T174313Z
LAST-MODIFIED:20210831T174313Z
UID:2911-1670932800-1670943600@cocaa.org
SUMMARY:Full Board Meeting
DESCRIPTION:
URL:https://cocaa.org/event/full-board-meeting-7/
LOCATION:COCAA\, 2 East Main Street\, Shawnee\, OK\, 74801\, United States
ORGANIZER;CN="Barbara Loudermilk":MAILTO:bloudermilk@cocaa.org
END:VEVENT
BEGIN:VEVENT
DTSTART;TZID=America/Chicago:20221125T080000
DTEND;TZID=America/Chicago:20221125T170000
DTSTAMP:20260423T130504
CREATED:20220720T213605Z
LAST-MODIFIED:20220720T213605Z
UID:3255-1669363200-1669395600@cocaa.org
SUMMARY:Closed - Day after Thanksgiving
DESCRIPTION:
URL:https://cocaa.org/event/closed-day-after-thanksgiving/
LOCATION:COCAA\, 2 East Main Street\, Shawnee\, OK\, 74801\, United States
ORGANIZER;CN="Barbara Loudermilk":MAILTO:bloudermilk@cocaa.org
END:VEVENT
BEGIN:VEVENT
DTSTART;TZID=America/Chicago:20221124T080000
DTEND;TZID=America/Chicago:20221124T170000
DTSTAMP:20260423T130504
CREATED:20220720T213516Z
LAST-MODIFIED:20220720T213934Z
UID:3253-1669276800-1669309200@cocaa.org
SUMMARY:Closed - Thanksgiving
DESCRIPTION:
URL:https://cocaa.org/event/closed-thanksgiving/
LOCATION:COCAA\, 2 East Main Street\, Shawnee\, OK\, 74801\, United States
ORGANIZER;CN="Barbara Loudermilk":MAILTO:bloudermilk@cocaa.org
END:VEVENT
BEGIN:VEVENT
DTSTART;TZID=America/Chicago:20221115T120000
DTEND;TZID=America/Chicago:20221115T150000
DTSTAMP:20260423T130504
CREATED:20210831T174219Z
LAST-MODIFIED:20210831T174219Z
UID:2909-1668513600-1668524400@cocaa.org
SUMMARY:Committee Meeting
DESCRIPTION:
URL:https://cocaa.org/event/committee-meeting-6/
LOCATION:COCAA\, 2 East Main Street\, Shawnee\, OK\, 74801\, United States
ORGANIZER;CN="Barbara Loudermilk":MAILTO:bloudermilk@cocaa.org
END:VEVENT
BEGIN:VEVENT
DTSTART;TZID=America/Chicago:20221111T080000
DTEND;TZID=America/Chicago:20221111T170000
DTSTAMP:20260423T130504
CREATED:20220720T213401Z
LAST-MODIFIED:20220720T213401Z
UID:3251-1668153600-1668186000@cocaa.org
SUMMARY:Closed - Veteran's Day
DESCRIPTION:
URL:https://cocaa.org/event/closed-veterans-day/
LOCATION:COCAA\, 2 East Main Street\, Shawnee\, OK\, 74801\, United States
ORGANIZER;CN="Barbara Loudermilk":MAILTO:bloudermilk@cocaa.org
END:VEVENT
BEGIN:VEVENT
DTSTART;TZID=America/Chicago:20221018T120000
DTEND;TZID=America/Chicago:20221018T140000
DTSTAMP:20260423T130504
CREATED:20220720T214728Z
LAST-MODIFIED:20220720T214728Z
UID:3262-1666094400-1666101600@cocaa.org
SUMMARY:Full Board Meeting
DESCRIPTION:
URL:https://cocaa.org/event/full-board-meeting-9/
LOCATION:COCAA\, 2 East Main Street\, Shawnee\, OK\, 74801\, United States
ORGANIZER;CN="Barbara Loudermilk":MAILTO:bloudermilk@cocaa.org
END:VEVENT
BEGIN:VEVENT
DTSTART;TZID=America/Chicago:20220920T120000
DTEND;TZID=America/Chicago:20220920T150000
DTSTAMP:20260423T130504
CREATED:20210831T173921Z
LAST-MODIFIED:20210831T173921Z
UID:2905-1663675200-1663686000@cocaa.org
SUMMARY:Committee Meeting
DESCRIPTION:
URL:https://cocaa.org/event/committee-meeting-5/
LOCATION:COCAA\, 2 East Main Street\, Shawnee\, OK\, 74801\, United States
ORGANIZER;CN="Barbara Loudermilk":MAILTO:bloudermilk@cocaa.org
END:VEVENT
BEGIN:VEVENT
DTSTART;TZID=America/Chicago:20220905T080000
DTEND;TZID=America/Chicago:20220905T170000
DTSTAMP:20260423T130504
CREATED:20220720T212304Z
LAST-MODIFIED:20220720T213208Z
UID:3248-1662364800-1662397200@cocaa.org
SUMMARY:Closed -Labor Day
DESCRIPTION:Closed
URL:https://cocaa.org/event/labor-day-3/
LOCATION:COCAA\, 2 East Main Street\, Shawnee\, OK\, 74801\, United States
ORGANIZER;CN="Barbara Loudermilk":MAILTO:bloudermilk@cocaa.org
END:VEVENT
BEGIN:VEVENT
DTSTART;TZID=America/Chicago:20220816T120000
DTEND;TZID=America/Chicago:20220816T150000
DTSTAMP:20260423T130504
CREATED:20210831T173801Z
LAST-MODIFIED:20210831T173801Z
UID:2903-1660651200-1660662000@cocaa.org
SUMMARY:Full Board Meeting
DESCRIPTION:
URL:https://cocaa.org/event/full-board-meeting-6/
LOCATION:COCAA\, 2 East Main Street\, Shawnee\, OK\, 74801\, United States
ORGANIZER;CN="Barbara Loudermilk":MAILTO:bloudermilk@cocaa.org
END:VEVENT
BEGIN:VEVENT
DTSTART;TZID=America/Chicago:20220719T120000
DTEND;TZID=America/Chicago:20220719T150000
DTSTAMP:20260423T130504
CREATED:20210831T173512Z
LAST-MODIFIED:20210831T173512Z
UID:2899-1658232000-1658242800@cocaa.org
SUMMARY:Committee Meeting
DESCRIPTION:
URL:https://cocaa.org/event/committee-meeting-4/
LOCATION:COCAA\, 2 East Main Street\, Shawnee\, OK\, 74801\, United States
END:VEVENT
END:VCALENDAR